BEGIN:VCALENDAR
VERSION:2.0
PRODID:-//Somerset Emergency Services - ECPv6.14.2//NONSGML v1.0//EN
CALSCALE:GREGORIAN
METHOD:PUBLISH
X-WR-CALNAME:Somerset Emergency Services
X-ORIGINAL-URL:https://somerset911.org
X-WR-CALDESC:Events for Somerset Emergency Services
REFRESH-INTERVAL;VALUE=DURATION:PT1H
X-Robots-Tag:noindex
X-PUBLISHED-TTL:PT1H
BEGIN:VTIMEZONE
TZID:America/New_York
BEGIN:DAYLIGHT
TZOFFSETFROM:-0500
TZOFFSETTO:-0400
TZNAME:EDT
DTSTART:20250309T070000
END:DAYLIGHT
BEGIN:STANDARD
TZOFFSETFROM:-0400
TZOFFSETTO:-0500
TZNAME:EST
DTSTART:20251102T060000
END:STANDARD
END:VTIMEZONE
BEGIN:VEVENT
DTSTART;TZID=America/New_York:20250813T170000
DTEND;TZID=America/New_York:20250813T210000
DTSTAMP:20260425T105627
CREATED:20250813T152408Z
LAST-MODIFIED:20250813T152408Z
UID:5339-1755104400-1755118800@somerset911.org
SUMMARY:Basic Life Support for Healthcare Providers CPR
DESCRIPTION:
URL:https://somerset911.org/event/basic-life-support-for-healthcare-providers-cpr/
LOCATION:Somerset County Department of Emergency Services\, 11916 Somerset Avenue\, Princess Anne\, MD\, 21853\, United States
CATEGORIES:Courses
END:VEVENT
END:VCALENDAR